Workbook
Name _nii1: #REF!
Name _nii2: #REF!
Name _nit1: #REF!
Name _nit2: #REF!
Name _nti1: #REF!
Name _nti2: #REF!
Name nii: #REF!
Name nit: #REF!
Name nti: #REF!

Sheet matriz_conf
D3: Referência
B4: Classificação | D4: A | E4: B | F4: C | G4: D | N4: Proporção Real
C5: =D4 -> A | D5: 27 | E5: 6 | F5: 0 | G5: 0 | I5: =SUM(D5:G5) -> 33 | M5: =C5 -> A | N5: 0.25 | O5: 0.01 | P5: 0.01
C6: =E4 -> B | D6: 6 | E6: 35 | F6: 1 | G6: 4 | I6: =SUM(D6:G6) -> 46 | M6: =C6 -> B | N6: 0.25 | O6: 0.02 | P6: 0.95
C7: =F4 -> C | D7: 0 | E7: 8 | F7: 53 | G7: 8 | I7: =SUM(D7:G7) -> 69 | M7: =C7 -> C | N7: 0.25 | O7: 0.95 | P7: 0.03
C8: =G4 -> D | D8: 0 | E8: 0 | F8: 0 | G8: 52 | I8: =SUM(D8:G8) -> 52 | M8: =C8 -> D | N8: =1-SUM(N5:N7) -> 0.25 | O8: =1-SUM(O5:O7) -> 0.02 | P8: =1-SUM(P5:P7) -> 0.01
D10: =SUM(D5:D8) -> 33 | E10: =SUM(E5:E8) -> 49 | F10: =SUM(F5:F8) -> 54 | G10: =SUM(G5:G8) -> 64 | I10: =SUM(D5:G8) -> 200 | M10: exatidão | N10: =$F17*N5+$F18*N6+$F19*N7+$F20*N8 -> 0.83679183 | O10: =$F17*O5+$F18*O6+$F19*O7+$F20*O8 -> 0.77310935 | P10: =$F17*P5+$F18*P6+$F19*P7+$F20*P8 -> 0.76405138
D12: exat. total | E12: =(D5+E6+F7+G8)/I10 -> 0.835
C15: Classe | D15: exatidão | E15: erro | F15: exatidão | G15: erro
D16: produtor | E16: omissão | F16: consumidor | G16: comissão
C17: =D4 -> A | D17: =D5/D10 -> 0.81818182 | E17: =1-D17 -> 0.18181818 | F17: =D5/I5 -> 0.81818182 | G17: =1-F17 -> 0.18181818
C18: =E4 -> B | D18: =E6/E10 -> 0.71428571 | E18: =1-D18 -> 0.28571429 | F18: =E6/I6 -> 0.76086957 | G18: =1-F18 -> 0.23913043
C19: =F4 -> C | D19: =F7/F10 -> 0.98148148 | E19: =1-D19 -> 0.018518519 | F19: =F7/I7 -> 0.76811594 | G19: =1-F19 -> 0.23188406
C20: =G4 -> D | D20: =G8/G10 -> 0.8125 | E20: =1-D20 -> 0.1875 | F20: =G8/I8 -> 1 | G20: =1-F20 -> 0
C23: #Estatística: Aplicação ao Sensoriamento Remoto - SER204, INPE, 2025
C24: #http://urlib.net/8JMKD2USNRW34T/4D6DMD2
C25: #https://cdrenno.github.io/Estatistica/

Sheet Pontius
O2: Proporção | Z2: Exchange
D3: Referência | O3: Referência | Z3: Referência
B4: Classificação | D4: A | E4: B | F4: C | G4: D | M4: Classificação | O4: A | P4: B | Q4: C | R4: D | X4: Classificação | Z4: A | AA4: B | AB4: C | AC4: D
C5: =D4 -> A | D5: =matriz_conf!D5 -> 27 | E5: =matriz_conf!E5 -> 6 | F5: =matriz_conf!F5 -> 0 | G5: =matriz_conf!G5 -> 0 | I5: =SUM(D5:G5) -> 33 | N5: =O4 -> A | O5: =D5/$I$10 -> 0.135 | P5: =E5/$I$10 -> 0.03 | Q5: =F5/$I$10 -> 0 | R5: =G5/$I$10 -> 0 | T5: =SUM(O5:R5) -> 0.165 | Y5: =Z4 -> A | Z5: =MIN(D5,D5) -> 27 | AA5: =MIN(E5,D6) -> 6 | AB5: =MIN(F5,D7) -> 0 | AC5: =MIN(G5,D8) -> 0
C6: =E4 -> B | D6: =matriz_conf!D6 -> 6 | E6: =matriz_conf!E6 -> 35 | F6: =matriz_conf!F6 -> 1 | G6: =matriz_conf!G6 -> 4 | I6: =SUM(D6:G6) -> 46 | N6: =P4 -> B | O6: =D6/$I$10 -> 0.03 | P6: =E6/$I$10 -> 0.175 | Q6: =F6/$I$10 -> 0.005 | R6: =G6/$I$10 -> 0.02 | T6: =SUM(O6:R6) -> 0.23 | Y6: =AA4 -> B | Z6: =MIN(D6,E5) -> 6 | AA6: =MIN(E6,E6) -> 35 | AB6: =MIN(F6,E7) -> 1 | AC6: =MIN(G6,E8) -> 0
C7: =F4 -> C | D7: =matriz_conf!D7 -> 0 | E7: =matriz_conf!E7 -> 8 | F7: =matriz_conf!F7 -> 53 | G7: =matriz_conf!G7 -> 8 | I7: =SUM(D7:G7) -> 69 | N7: =Q4 -> C | O7: =D7/$I$10 -> 0 | P7: =E7/$I$10 -> 0.04 | Q7: =F7/$I$10 -> 0.265 | R7: =G7/$I$10 -> 0.04 | T7: =SUM(O7:R7) -> 0.345 | Y7: =AB4 -> C | Z7: =MIN(D7,F5) -> 0 | AA7: =MIN(E7,F6) -> 1 | AB7: =MIN(F7,F7) -> 53 | AC7: =MIN(G7,F8) -> 0
C8: =G4 -> D | D8: =matriz_conf!D8 -> 0 | E8: =matriz_conf!E8 -> 0 | F8: =matriz_conf!F8 -> 0 | G8: =matriz_conf!G8 -> 52 | I8: =SUM(D8:G8) -> 52 | N8: =R4 -> D | O8: =D8/$I$10 -> 0 | P8: =E8/$I$10 -> 0 | Q8: =F8/$I$10 -> 0 | R8: =G8/$I$10 -> 0.26 | T8: =SUM(O8:R8) -> 0.26 | Y8: =AC4 -> D | Z8: =MIN(D8,G5) -> 0 | AA8: =MIN(E8,G6) -> 0 | AB8: =MIN(F8,G7) -> 0 | AC8: =MIN(G8,G8) -> 52
D10: =SUM(D5:D8) -> 33 | E10: =SUM(E5:E8) -> 49 | F10: =SUM(F5:F8) -> 54 | G10: =SUM(G5:G8) -> 64 | I10: =SUM(D5:G8) -> 200 | O10: =SUM(O5:O8) -> 0.165 | P10: =SUM(P5:P8) -> 0.245 | Q10: =SUM(Q5:Q8) -> 0.27 | R10: =SUM(R5:R8) -> 0.32 | T10: =SUM(O5:R8) -> 1 | Z10: =SUM(Z5:Z8) -> 33 | AA10: =SUM(AA5:AA8) -> 42 | AB10: =SUM(AB5:AB8) -> 54 | AC10: =SUM(AC5:AC8) -> 52
D12: exat. total | E12: =(D5+E6+F7+G8)/I10 -> 0.835
C15: Classe | D15: Quantity | E15: Allocation | F15: Exchange | G15: Shift | T15: #Estatística: Aplicação ao Sensoriamento Remoto - SER204, INPE, 2025
C16: =D4 -> A | D16: =ABS(T5-O10) -> 0 | E16: =2*MIN(T5-O5,O10-O5) -> 0.06 | F16: =2*(Z10-D5)/I10 -> 0.06 | G16: =E16-F16 -> 0 | T16: #http://urlib.net/8JMKD2USNRW34T/4D6DMD2
C17: =E4 -> B | D17: =ABS(T6-P10) -> 0.015 | E17: =2*MIN(T6-P6,P10-P6) -> 0.11 | F17: =2*(AA10-E6)/I10 -> 0.07 | G17: =E17-F17 -> 0.04 | T17: #https://cdrenno.github.io/Estatistica/
C18: =F4 -> C | D18: =ABS(T7-Q10) -> 0.075 | E18: =2*MIN(T7-Q7,Q10-Q7) -> 0.01 | F18: =2*(AB10-F7)/I10 -> 0.01 | G18: =E18-F18 -> 0
C19: =G4 -> D | D19: =ABS(T8-R10) -> 0.06 | E19: =2*MIN(T8-R8,R10-R8) -> 0 | F19: =2*(AC10-G8)/I10 -> 0 | G19: =E19-F19 -> 0
C21: Total | D21: =SUM(D16:D19)/2 -> 0.075 | E21: =SUM(E16:E19)/2 -> 0.09 | F21: =SUM(F16:F19)/2 -> 0.07 | G21: =SUM(G16:G19)/2 -> 0.02
