Workbook

Sheet dado
B1: T1 | C1: T2 | D1: T3 | E1: T4 | H1: #Estatística: Aplicação ao Sensoriamento Remoto - SER204, INPE, 2025
B2: 6.8 | C2: 12.7 | D2: 9.4 | E2: 15.7 | H2: #http://urlib.net/8JMKD2USNRW34T/4D6DMD2
B3: 8.2 | C3: 13.5 | D3: 13 | E3: 13.9 | H3: #https://cdrenno.github.io/Estatistica/
B4: 9.5 | C4: 12.9 | D4: 12.1 | E4: 13.7
B5: 10.2 | C5: 14.9 | D5: 8.3 | E5: 20.9
B6: 10.7 | C6: 12.8 | D6: 7.2 | E6: 15.8
B7: 13.7 | C7: 11.6 | D7: 10.2 | E7: 17.6
B8: 9 | C8: 18.7 | D8: 9.8 | E8: 16.9
B9: 12.1 | C9: 10.1 | D9: 14.8 | E9: 11.4
B10: 13.4 | C10: 19.3 | D10: 13 | E10: 21.6
B11: 10.5 | C11: 13.9 | D11: 9.1 | E11: 14.4
B12: 10 | C12: 13.7 | E12: 12.7
B13: 13.9 | C13: 16.8 | F13: Total
A14: nj | B14: =COUNT(B2:B13) -> 12 | C14: =COUNT(C2:C13) -> 12 | D14: =COUNT(D2:D13) -> 10 | E14: =COUNT(E2:E13) -> 11 | F14: =SUM(B14:E14) -> 45
A15: Total | B15: =SUM(B2:B13) -> 128 | C15: =SUM(C2:C13) -> 170.9 | D15: =SUM(D2:D13) -> 106.9 | E15: =SUM(E2:E13) -> 174.6 | F15: =SUM(B15:E15) -> 580.4
A16: Média | B16: =B15/B14 -> 10.666667 | C16: =C15/C14 -> 14.241667 | D16: =D15/D14 -> 10.69 | E16: =E15/E14 -> 15.872727 | F16: =F15/F14 -> 12.897778

Sheet Graficos
A2: 0.7 | B2: =dado!B2 -> 6.8
A3: =A2+0.05 -> 0.75 | B3: =dado!B3 -> 8.2
A4: =A3+0.05 -> 0.8 | B4: =dado!B4 -> 9.5
A5: =A4+0.05 -> 0.85 | B5: =dado!B5 -> 10.2
A6: =A5+0.05 -> 0.9 | B6: =dado!B6 -> 10.7
A7: =A6+0.05 -> 0.95 | B7: =dado!B7 -> 13.7
A8: =A7+0.05 -> 1 | B8: =dado!B8 -> 9
A9: =A8+0.05 -> 1.05 | B9: =dado!B9 -> 12.1
A10: =A9+0.05 -> 1.1 | B10: =dado!B10 -> 13.4
A11: =A10+0.05 -> 1.15 | B11: =dado!B11 -> 10.5
A12: =A11+0.05 -> 1.2 | B12: =dado!B12 -> 10
A13: =A12+0.05 -> 1.25 | B13: =dado!B13 -> 13.9
A14: 2.7 | B14: =dado!C2 -> 12.7
A15: =A14+0.05 -> 2.75 | B15: =dado!C3 -> 13.5
A16: =A15+0.05 -> 2.8 | B16: =dado!C4 -> 12.9
A17: =A16+0.05 -> 2.85 | B17: =dado!C5 -> 14.9
A18: =A17+0.05 -> 2.9 | B18: =dado!C6 -> 12.8 | D18: 0 | E18: =dado!F16 -> 12.897778
A19: =A18+0.05 -> 2.95 | B19: =dado!C7 -> 11.6 | D19: 8 | E19: =E18 -> 12.897778
A20: =A19+0.05 -> 3 | B20: =dado!C8 -> 18.7
A21: =A20+0.05 -> 3.05 | B21: =dado!C9 -> 10.1 | D21: 0.5 | E21: =dado!B16 -> 10.666667
A22: =A21+0.05 -> 3.1 | B22: =dado!C10 -> 19.3 | D22: 1.5 | E22: =E21 -> 10.666667
A23: =A22+0.05 -> 3.15 | B23: =dado!C11 -> 13.9
A24: =A23+0.05 -> 3.2 | B24: =dado!C12 -> 13.7 | D24: =D21+2 -> 2.5 | E24: =dado!C16 -> 14.241667
A25: =A24+0.05 -> 3.25 | B25: =dado!C13 -> 16.8 | D25: =D22+2 -> 3.5 | E25: =E24 -> 14.241667
A26: 4.75 | B26: =dado!D2 -> 9.4
A27: =A26+0.05 -> 4.8 | B27: =dado!D3 -> 13 | D27: =D24+2 -> 4.5 | E27: =dado!D16 -> 10.69
A28: =A27+0.05 -> 4.85 | B28: =dado!D4 -> 12.1 | D28: =D25+2 -> 5.5 | E28: =E27 -> 10.69
A29: =A28+0.05 -> 4.9 | B29: =dado!D5 -> 8.3
A30: =A29+0.05 -> 4.95 | B30: =dado!D6 -> 7.2 | D30: =D27+2 -> 6.5 | E30: =dado!E16 -> 15.872727
A31: =A30+0.05 -> 5 | B31: =dado!D7 -> 10.2 | D31: =D28+2 -> 7.5 | E31: =E30 -> 15.872727
A32: =A31+0.05 -> 5.05 | B32: =dado!D8 -> 9.8
A33: =A32+0.05 -> 5.1 | B33: =dado!D9 -> 14.8
A34: =A33+0.05 -> 5.15 | B34: =dado!D10 -> 13
A35: =A34+0.05 -> 5.2 | B35: =dado!D11 -> 9.1
A36: 6.7 | B36: =dado!E2 -> 15.7
A37: =A36+0.05 -> 6.75 | B37: =dado!E3 -> 13.9
A38: =A37+0.05 -> 6.8 | B38: =dado!E4 -> 13.7
A39: =A38+0.05 -> 6.85 | B39: =dado!E5 -> 20.9
A40: =A39+0.05 -> 6.9 | B40: =dado!E6 -> 15.8
A41: =A40+0.05 -> 6.95 | B41: =dado!E7 -> 17.6
...

Sheet ANOVA
A1: ANOVA
A2: Fonte | B2: SQ | C2: gl | D2: QM | E2: F | F2: valor-P
A3: Tratamento | B3: =dado!B15^2/dado!B14+dado!C15^2/dado!C14+dado!D15^2/dado!D14+dado!E15^2/dado!E14-dado!F15^2/dado!F14 -> 227.50313 | C3: =COUNTA(dado!B1:E1)-1 -> 3 | D3: =B3/C3 -> 75.834375 | E3: =D3/D4 -> 10.557349 | F3: =1-_xlfn.F.DIST(E3,C3,C4,1) -> 2.8339004e-05
A4: Erro | B4: =B6-B3 -> 294.50665 | C4: =C6-C3 -> 41 | D4: =B4/C4 -> 7.1830891
A6: Total | B6: =SUMSQ(dado!B2:E13)-dado!F15^2/dado!F14 -> 522.00978 | C6: =dado!F14-1 -> 44

Sheet Bartlett
A1: RESUMO
A2: Trat | B2: nj | C2: Total | D2: Média | E2: Variância
A3: T1 | B3: =dado!B14 -> 12 | C3: =dado!B15 -> 128 | D3: =dado!B16 -> 10.666667 | E3: =_xlfn.VAR.S(dado!B2:B13) -> 5.0042424
A4: T2 | B4: =dado!C14 -> 12 | C4: =dado!C15 -> 170.9 | D4: =dado!C16 -> 14.241667 | E4: =_xlfn.VAR.S(dado!C2:C13) -> 7.617197
A5: T3 | B5: =dado!D14 -> 10 | C5: =dado!D15 -> 106.9 | D5: =dado!D16 -> 10.69 | E5: =_xlfn.VAR.S(dado!D2:D13) -> 5.8521111
A6: T4 | B6: =dado!E14 -> 11 | C6: =dado!E15 -> 174.6 | D6: =dado!E16 -> 15.872727 | E6: =_xlfn.VAR.S(dado!E2:E13) -> 10.300182
A8: r = | B8: =COUNTA(A3:A6) -> 4
A9: nT = | B9: =SUM(B3:B6) -> 45
A10: QME = | B10: =ANOVA!D4 -> 7.1830891
A11: C = | B11: {=1+(SUM(1/(B3:B6-1))-1/(B9-B8))/(3*(B8-1))} -> 1.0409488
A12: B = | B12: {=2.302585*((B9-B8)*LOG10(B10)-SUM((B3:B6-1)*LOG10(E3:E6)))/B11} -> 1.5086557
A13: Valor-P | B13: =1-_xlfn.CHISQ.DIST(B12,B8-1,1) -> 0.68027406

Sheet Tukey
B1: média | C1: T1 | D1: T3 | E1: T2
A2: T1 | B2: =dado!B16 -> 10.666667
A3: T3 | B3: =dado!D16 -> 10.69 | C3: =B3-B2 -> 0.023333333
A4: T2 | B4: =dado!C16 -> 14.241667 | C4: =B4-B2 -> 3.575 | D4: =B4-B3 -> 3.5516667
A5: T4 | B5: =dado!E16 -> 15.872727 | C5: =B5-B2 -> 5.2060606 | D5: =B5-B3 -> 5.1827273 | E5: =B5-B4 -> 1.6310606
B7: Valores Críticos
B8: nj | C8: =C1 -> T1 | D8: =D1 -> T3 | E8: =E1 -> T2
A9: =A2 -> T1 | B9: =Bartlett!B3 -> 12
A10: =A3 -> T3 | B10: =Bartlett!B5 -> 10 | C10: =$C$15*SQRT($C$14*(1/B$9+1/B10))/SQRT(2) -> 3.0786383
A11: =A4 -> T2 | B11: =Bartlett!B4 -> 12 | C11: =$C$15*SQRT($C$14*(1/B$9+1/B11))/SQRT(2) -> 2.9353665 | D11: =$C$15*SQRT($C$14*(1/B$10+1/B11))/SQRT(2) -> 3.0786383
A12: =A5 -> T4 | B12: =Bartlett!B6 -> 11 | C12: =$C$15*SQRT($C$14*(1/B$9+1/B12))/SQRT(2) -> 3.001338 | D12: =$C$15*SQRT($C$14*(1/B$10+1/B12))/SQRT(2) -> 3.1416027 | E12: =$C$15*SQRT($C$14*(1/B$11+1/B12))/SQRT(2) -> 3.001338
B14: QME = | C14: =ANOVA!D4 -> 7.1830891
B15: q4,41 = | C15: 3.794
